BEGIN:VCALENDAR
VERSION:2.0
PRODID:-//Servicios de la Raza - ECPv6.15.20//NONSGML v1.0//EN
CALSCALE:GREGORIAN
METHOD:PUBLISH
X-WR-CALNAME:Servicios de la Raza
X-ORIGINAL-URL:https://serviciosdelaraza.org
X-WR-CALDESC:Events for Servicios de la Raza
REFRESH-INTERVAL;VALUE=DURATION:PT1H
X-Robots-Tag:noindex
X-PUBLISHED-TTL:PT1H
BEGIN:VTIMEZONE
TZID:America/Denver
BEGIN:DAYLIGHT
TZOFFSETFROM:-0700
TZOFFSETTO:-0600
TZNAME:MDT
DTSTART:20250309T090000
END:DAYLIGHT
BEGIN:STANDARD
TZOFFSETFROM:-0600
TZOFFSETTO:-0700
TZNAME:MST
DTSTART:20251102T080000
END:STANDARD
BEGIN:DAYLIGHT
TZOFFSETFROM:-0700
TZOFFSETTO:-0600
TZNAME:MDT
DTSTART:20260308T090000
END:DAYLIGHT
BEGIN:STANDARD
TZOFFSETFROM:-0600
TZOFFSETTO:-0700
TZNAME:MST
DTSTART:20261101T080000
END:STANDARD
BEGIN:DAYLIGHT
TZOFFSETFROM:-0700
TZOFFSETTO:-0600
TZNAME:MDT
DTSTART:20270314T090000
END:DAYLIGHT
BEGIN:STANDARD
TZOFFSETFROM:-0600
TZOFFSETTO:-0700
TZNAME:MST
DTSTART:20271107T080000
END:STANDARD
END:VTIMEZONE
BEGIN:VEVENT
DTSTART;TZID=America/Denver:20260423T100000
DTEND;TZID=America/Denver:20260423T160000
DTSTAMP:20260423T033154
CREATED:20260404T045020Z
LAST-MODIFIED:20260404T045020Z
UID:8162-1776938400-1776960000@serviciosdelaraza.org
SUMMARY:Digital Literacy Class
DESCRIPTION:Don’t know how to use a computer?! 💻🤔 Try our one-day Digital Literacy Class and receive a free laptop upon completing the course! Register using the QR code or at: https://tinyurl.com/3duktr3p\nQuestions? 720-742-1044 📞  \n📆 Wednesdays or Thursdays\n🕘 9AM–3:00 PM (1-hour lunch break at noon)\n📍 140 Sheridan Blvd\n   Denver\, CO 80226
URL:https://serviciosdelaraza.org/event/digital-literacy-class-6/
LOCATION:140 Sheridan Blvd\, Edgewater\, CO\, United States
END:VEVENT
END:VCALENDAR